{
 "currentVersion": 10.2,
 "serviceDescription": "",
 "name": "dongguan/dg_gc_yx",
 "description": "dongguan/dg_gc_yx",
 "extent": {
  "xmin": 113.72667984,
  "ymin": 23.02212501,
  "xmax": 113.77880208,
  "ymax": 23.06133702,
  "spatialReference": {
   "wkid": 4326,
   "latestWkid": 4326
  }
 },
 "initialExtent": {
  "xmin": 113.72667984,
  "ymin": 23.02212501,
  "xmax": 113.77880208,
  "ymax": 23.06133702,
  "spatialReference": {
   "wkid": 4326,
   "latestWkid": 4326
  }
 },
 "fullExtent": {
  "xmin": 113.72667984,
  "ymin": 23.02212501,
  "xmax": 113.77880208,
  "ymax": 23.06133702,
  "spatialReference": {
   "wkid": 4326,
   "latestWkid": 4326
  }
 },
 "pixelSizeX": 5.364578015644583E-6,
 "pixelSizeY": 5.36489396634286E-6,
 "bandCount": 3,
 "pixelType": "U8",
 "minPixelSize": 0,
 "maxPixelSize": 0,
 "copyrightText": "",
 "serviceDataType": "esriImageServiceDataTypeRGB",
 "minValues": [
  0,
  0,
  0
 ],
 "maxValues": [
  255,
  255,
  255
 ],
 "meanValues": [
  44.480419308554495,
  41.76062236190249,
  42.70540757992157
 ],
 "stdvValues": [
  57.390477385535135,
  53.25112735427972,
  53.43143299502601
 ],
 "objectIdField": "",
 "fields": [],
 "capabilities": "Image,Metadata,Mensuration",
 "defaultMosaicMethod": "Center",
 "allowedMosaicMethods": "",
 "sortField": "",
 "sortValue": null,
 "mosaicOperator": "First",
 "defaultCompressionQuality": 75,
 "defaultResamplingMethod": "Bilinear",
 "maxImageHeight": 4100,
 "maxImageWidth": 15000,
 "allowRasterFunction": true,
 "rasterFunctionInfos": [],
 "rasterTypeInfos": [
  {
   "name": "Raster Dataset",
   "description": "Supports all ArcGIS Raster Datasets",
   "help": ""
  }
 ],
 "mensurationCapabilities": "Basic",
 "hasHistograms": true,
 "hasColormap": false,
 "hasRasterAttributeTable": false,
 "minScale": 0,
 "maxScale": 0,
 "exportTilesAllowed": false,
 "editFieldsInfo": null,
 "ownershipBasedAccessControlForRasters": null,
 "allowComputeTiePoints": false,
 "useStandardizedQueries": true,
 "spatialReference": {
  "wkid": 4326,
  "latestWkid": 4326
 }
}
