View In:
ArcGIS JavaScript
ArcGIS.com Map
Google Earth
ArcMap
View Footprint In:
ArcGIS.com Map
Service Description:
Name: dongguan/dg_gc_yx
Description: dongguan/dg_gc_yx
Single Fused Map Cache: false
Extent:
XMin: 113.72667984
YMin: 23.02212501
XMax: 113.77880208
YMax: 23.06133702
Spatial Reference: 4326
(4326)
Initial Extent:
XMin: 113.72667984
YMin: 23.02212501
XMax: 113.77880208
YMax: 23.06133702
Spatial Reference: 4326
(4326)
Full Extent:
XMin: 113.72667984
YMin: 23.02212501
XMax: 113.77880208
YMax: 23.06133702
Spatial Reference: 4326
(4326)
Pixel Size X: 5.364578015644583E-6
Pixel Size Y: 5.36489396634286E-6
Band Count: 3
Pixel Type: U8
RasterFunction Infos: N/A
Mensuration Capabilities: Basic
Has Histograms: true
Has Colormap: false
Min Scale: 0
Max Scale: 0
Copyright Text:
Service Data Type: esriImageServiceDataTypeRGB
Min Values: 0, 0, 0
Max Values: 255, 255, 255
Mean Values: 44.480419308554495, 41.76062236190249, 42.70540757992157
Standard Deviation Values: 57.390477385535135, 53.25112735427972, 53.43143299502601
Object ID Field:
Fields:
None
Raster Attribute Table: false
Default Mosaic Method: Center
Allowed Mosaic Methods:
Allowed Compressions: N/A
SortField:
SortValue: null
Mosaic Operator: First
Default Compression Quality: 75
Default Resampling Method: Bilinear
Max Record Count: null
Max Image Height: 4100
Max Image Width: 15000
Max Download Image Count: null
Max Mosaic Image Count: null
Allow Raster Function: true
Raster Type Infos:
Name: Raster Dataset
Description: Supports all ArcGIS Raster Datasets
Help:
Has Raster Attribute Table: false
Edit Fields Info: null
Ownership Based AccessControl For Rasters: null
Child Resources:
Info
Histograms
Key Properties
Legend
Supported Operations:
Export Image
Identify
Measure
Compute Histograms
Get Samples
Compute Class Statistics